BEGIN:VCALENDAR
VERSION:2.0
PRODID:-//wp-events-plugin.com//7.2.3.1//EN
TZID:America/Chicago
X-WR-TIMEZONE:America/Chicago
BEGIN:VEVENT
UID:42@lazybeachbrewing.com
DTSTART;TZID=America/Chicago:20260507T180000
DTEND;TZID=America/Chicago:20260507T210000
DTSTAMP:20260424T162522Z
URL:https://lazybeachbrewing.com/all-events/ales-tales/
SUMMARY:Ales & Tales
DESCRIPTION:Join us on the first and third Thursdays for a D&amp\;D campaig
 n with varied characters\, outlandish hats\, and delicious pints. As this 
 campaign approaches it's final epic battle\, we need all the characters he
 lp we can get. Bring your lucky d20\, and head downtown to enter a world o
 f fantastic creatures and wild chances.
ATTACH;FMTTYPE=image/jpeg:https://lazybeachbrewing.com/wp-content/uploads/
 2026/04/DD-Downtown.-third-Thursday-Real-Estate-Flyer.png
CATEGORIES:Downtown,Monthly
LOCATION:Lazy Beach Downtown\, 312 N. Chaparral B\, Corpus Christi\, Texas\
 , 78401\, United States
X-APPLE-STRUCTURED-LOCATION;VALUE=URI;X-ADDRESS=312 N. Chaparral B\, Corpus
  Christi\, Texas\, 78401\, United States;X-APPLE-RADIUS=100;X-TITLE=Lazy B
 each Downtown:geo:0,0
END:VEVENT
BEGIN:VTIMEZONE
TZID:America/Chicago
X-LIC-LOCATION:America/Chicago
BEGIN:DAYLIGHT
DTSTART:20260308T030000
TZOFFSETFROM:-0600
TZOFFSETTO:-0500
TZNAME:CDT
END:DAYLIGHT
END:VTIMEZONE
END:VCALENDAR