BEGIN:VCALENDAR
VERSION:2.0
PRODID:-//wp-events-plugin.com//7.2.3.1//EN
TZID:America/Chicago
X-WR-TIMEZONE:America/Chicago
BEGIN:VEVENT
UID:39@lazybeachbrewing.com
DTSTART;TZID=America/Chicago:20260501T180000
DTEND;TZID=America/Chicago:20260501T210000
DTSTAMP:20260424T155611Z
URL:https://lazybeachbrewing.com/all-events/artwalk/
SUMMARY:Artwalk
DESCRIPTION:Join us Downtown for Artwalk. Walk the downtown footprint with 
 Lazy Beach Pint in hand and view new art installations\, live music and ar
 t performances. This month Lazy Beach Downtown will be joined by Mythica T
 ribal Dance Troop and new artwork by Vanessa Spittler.
ATTACH;FMTTYPE=image/jpeg:https://lazybeachbrewing.com/wp-content/uploads/
 2026/04/May.jpg
CATEGORIES:Monthly
LOCATION:Lazy Beach Downtown\, 312 N. Chaparral B\, Corpus Christi\, Texas\
 , 78401\, United States
X-APPLE-STRUCTURED-LOCATION;VALUE=URI;X-ADDRESS=312 N. Chaparral B\, Corpus
  Christi\, Texas\, 78401\, United States;X-APPLE-RADIUS=100;X-TITLE=Lazy B
 each Downtown:geo:0,0
END:VEVENT
BEGIN:VTIMEZONE
TZID:America/Chicago
X-LIC-LOCATION:America/Chicago
BEGIN:DAYLIGHT
DTSTART:20260308T030000
TZOFFSETFROM:-0600
TZOFFSETTO:-0500
TZNAME:CDT
END:DAYLIGHT
END:VTIMEZONE
END:VCALENDAR