BEGIN:VCALENDAR
VERSION:2.0
PRODID:-//wp-events-plugin.com//7.2.3.1//EN
TZID:America/Chicago
X-WR-TIMEZONE:America/Chicago
BEGIN:VEVENT
UID:40@lazybeachbrewing.com
DTSTART;TZID=America/Chicago:20260508T203000
DTEND;TZID=America/Chicago:20260508T220000
DTSTAMP:20260424T161404Z
URL:https://lazybeachbrewing.com/all-events/comedy-showcase/
SUMMARY:Comedy Showcase
DESCRIPTION:Get ready to trade your work-week woes for some serious laughs!
  We’re transforming the Downtown taproom into a comedy club for a night 
 of unfiltered stand-up featuring a stacked lineup of local talent.\nWhile 
 the show is free\, we do ask that you help us keep the lights on and the m
 ics hot by grabbing a drink (or three) throughout the set. Please note tha
 t this is a 21+ event—the jokes are rated "Mature\," just like our barre
 l-aged brews. Grab a pint\, find a seat early\, and let’s get laughing!
ATTACH;FMTTYPE=image/jpeg:https://lazybeachbrewing.com/wp-content/uploads/
 2026/04/May-8-DT.png
CATEGORIES:Comedy
LOCATION:Lazy Beach Downtown\, 312 N. Chaparral B\, Corpus Christi\, Texas\
 , 78401\, United States
X-APPLE-STRUCTURED-LOCATION;VALUE=URI;X-ADDRESS=312 N. Chaparral B\, Corpus
  Christi\, Texas\, 78401\, United States;X-APPLE-RADIUS=100;X-TITLE=Lazy B
 each Downtown:geo:0,0
END:VEVENT
BEGIN:VTIMEZONE
TZID:America/Chicago
X-LIC-LOCATION:America/Chicago
BEGIN:DAYLIGHT
DTSTART:20260308T030000
TZOFFSETFROM:-0600
TZOFFSETTO:-0500
TZNAME:CDT
END:DAYLIGHT
END:VTIMEZONE
END:VCALENDAR