BEGIN:VCALENDAR
VERSION:2.0
PRODID:-//wp-events-plugin.com//7.2.3.1//EN
TZID:America/Chicago
X-WR-TIMEZONE:America/Chicago
BEGIN:VEVENT
UID:44@lazybeachbrewing.com
DTSTART;TZID=America/Chicago:20260517T120000
DTEND;TZID=America/Chicago:20260517T170000
DTSTAMP:20260424T173151Z
URL:https://lazybeachbrewing.com/all-events/crawfish-boil/
SUMMARY:Crawfish Boil
DESCRIPTION:Pinch\, Peel\, Eat\, Repeat!\nMudbug season is officially here\
 , and we’re doing it right! Join us at Lazy Beach for a massive crawfish
  boil featuring the legends\, Couyon Crawfish. They’re bringing the auth
 entic Cajun spice\, and we’re providing the ice-cold coastal brews to he
 lp you put out the fire. Grab a tray\, find a spot in the sun\, and let’
 s get messy. It’s a Southside Sunday you won’t want to miss!
ATTACH;FMTTYPE=image/jpeg:https://lazybeachbrewing.com/wp-content/uploads/
 2026/04/Crawfish-promo9.png
CATEGORIES:Annual
LOCATION:Lazy Beach Southside\, 7522 Bichon Dr #100\, Corpus Christi\, TX\,
  78414\, United States
X-APPLE-STRUCTURED-LOCATION;VALUE=URI;X-ADDRESS=7522 Bichon Dr #100\, Corpu
 s Christi\, TX\, 78414\, United States;X-APPLE-RADIUS=100;X-TITLE=Lazy Bea
 ch Southside:geo:0,0
END:VEVENT
BEGIN:VTIMEZONE
TZID:America/Chicago
X-LIC-LOCATION:America/Chicago
BEGIN:DAYLIGHT
DTSTART:20260308T030000
TZOFFSETFROM:-0600
TZOFFSETTO:-0500
TZNAME:CDT
END:DAYLIGHT
END:VTIMEZONE
END:VCALENDAR