BEGIN:VCALENDAR
VERSION:2.0
PRODID:-//wp-events-plugin.com//7.2.3.1//EN
TZID:America/Chicago
X-WR-TIMEZONE:America/Chicago
BEGIN:VEVENT
UID:47@lazybeachbrewing.com
DTSTART;TZID=America/Chicago:20260426T110000
DTEND;TZID=America/Chicago:20260426T170000
DTSTAMP:20260424T194239Z
URL:https://lazybeachbrewing.com/all-events/dr-gs-food-at-lazy-beach-brewi
 ng/
SUMMARY:Dr. G's Food at Lazy Beach Brewing
DESCRIPTION:Swing by this Sunday from 11:00 AM – 5:00 PM while Dr. G is i
 n the house! We're welcoming Dr. G's Food Truck back to the brewery. Stop 
 by for delicious street food\, and stay for the fresh\, local beer.\nSee y
 ou soon!
ATTACH;FMTTYPE=image/jpeg:https://lazybeachbrewing.com/wp-content/uploads/
 2026/04/Dr.-Gs-Sunday1.png
CATEGORIES:food trucks Sunday
LOCATION:Lazy Beach Southside\, 7522 Bichon Dr #100\, Corpus Christi\, TX\,
  78414\, United States
X-APPLE-STRUCTURED-LOCATION;VALUE=URI;X-ADDRESS=7522 Bichon Dr #100\, Corpu
 s Christi\, TX\, 78414\, United States;X-APPLE-RADIUS=100;X-TITLE=Lazy Bea
 ch Southside:geo:0,0
END:VEVENT
BEGIN:VTIMEZONE
TZID:America/Chicago
X-LIC-LOCATION:America/Chicago
BEGIN:DAYLIGHT
DTSTART:20260308T030000
TZOFFSETFROM:-0600
TZOFFSETTO:-0500
TZNAME:CDT
END:DAYLIGHT
END:VTIMEZONE
END:VCALENDAR