BEGIN:VCALENDAR
VERSION:2.0
PRODID:-//wp-events-plugin.com//7.2.3.1//EN
TZID:America/Chicago
X-WR-TIMEZONE:America/Chicago
BEGIN:VEVENT
UID:45@lazybeachbrewing.com
DTSTART;TZID=America/Chicago:20260531T180000
DTEND;TZID=America/Chicago:20260531T210000
DTSTAMP:20260424T174730Z
URL:https://lazybeachbrewing.com/all-events/food-and-beer-pairing/
SUMMARY:Food and Beer Pairing
DESCRIPTION:The best chefs in the Coastal Bend create SEVEN fine courses pe
 rfectly paired with freshly crafted beers! Together with TCA we proudly ho
 st this food and beer pairing at Lazy Beach Brewing and cafe on Sunday\, 3
 1 May 2026 from 6pm-9pm. Seven courses expertly paired with different Lazy
  Beach brews to create an experience worth remembering.  Purchase your ti
 cket to guarantee your seat today!\n\nhttps://lazybeach.square.site/s/orde
 r?cs=true&amp\;cst=custom&amp\;item=893&amp\;location=8DK6SP28CSWRS\n\n[ga
 llery ids="16736\,16737\,16738" orderby="rand"]\n\n&nbsp\;\n\n&nbsp\;
ATTACH;FMTTYPE=image/jpeg:https://lazybeachbrewing.com/wp-content/uploads/
 2026/04/food-pairing-octo.jpg
LOCATION:Lazy Beach Southside\, 7522 Bichon Dr #100\, Corpus Christi\, TX\,
  78414\, United States
X-APPLE-STRUCTURED-LOCATION;VALUE=URI;X-ADDRESS=7522 Bichon Dr #100\, Corpu
 s Christi\, TX\, 78414\, United States;X-APPLE-RADIUS=100;X-TITLE=Lazy Bea
 ch Southside:geo:0,0
END:VEVENT
BEGIN:VTIMEZONE
TZID:America/Chicago
X-LIC-LOCATION:America/Chicago
BEGIN:DAYLIGHT
DTSTART:20260308T030000
TZOFFSETFROM:-0600
TZOFFSETTO:-0500
TZNAME:CDT
END:DAYLIGHT
END:VTIMEZONE
END:VCALENDAR