BEGIN:VCALENDAR
VERSION:2.0
PRODID:-//wp-events-plugin.com//7.2.3.1//EN
TZID:America/Chicago
X-WR-TIMEZONE:America/Chicago
BEGIN:VEVENT
UID:43@lazybeachbrewing.com
DTSTART;TZID=America/Chicago:20260514T183000
DTEND;TZID=America/Chicago:20260514T203000
DTSTAMP:20260424T170049Z
URL:https://lazybeachbrewing.com/all-events/ipa-book-club/
SUMMARY:IPA Book Club
DESCRIPTION:Think of it as "low-pressure literature." Whether you’re a to
 tal bookworm or you haven't finished a chapter since high school\, our mon
 thly book club is the perfect spot to turn the page. We don’t stick to o
 ne genre—we dive into everything from gritty thrillers and classic liter
 ature to mind-bending sci-fi.\nThe best part? There are no "right" answers
 \, just great discussions. We’re open to everyone\, so grab a copy of th
 is month’s pick\, pull up a chair\, and let’s talk shop over a pint. N
 o tests\, no stress\, just books and brews! This month\, we will discuss T
 he Guest List by Lucy Foley.
ATTACH;FMTTYPE=image/jpeg:https://lazybeachbrewing.com/wp-content/uploads/
 2026/04/November1.png
CATEGORIES:Downtown,Monthly
LOCATION:Lazy Beach Downtown\, 312 N. Chaparral B\, Corpus Christi\, Texas\
 , 78401\, United States
X-APPLE-STRUCTURED-LOCATION;VALUE=URI;X-ADDRESS=312 N. Chaparral B\, Corpus
  Christi\, Texas\, 78401\, United States;X-APPLE-RADIUS=100;X-TITLE=Lazy B
 each Downtown:geo:0,0
END:VEVENT
BEGIN:VTIMEZONE
TZID:America/Chicago
X-LIC-LOCATION:America/Chicago
BEGIN:DAYLIGHT
DTSTART:20260308T030000
TZOFFSETFROM:-0600
TZOFFSETTO:-0500
TZNAME:CDT
END:DAYLIGHT
END:VTIMEZONE
END:VCALENDAR