BEGIN:VCALENDAR
VERSION:2.0
PRODID:-//wp-events-plugin.com//7.2.3.1//EN
TZID:America/Chicago
X-WR-TIMEZONE:America/Chicago
BEGIN:VEVENT
UID:46@lazybeachbrewing.com
DTSTART;TZID=America/Chicago:20260425T170000
DTEND;TZID=America/Chicago:20260425T220000
DTSTAMP:20260424T193847Z
URL:https://lazybeachbrewing.com/all-events/pinoy-food-trip-at-lazy-beach-
 brewing/
SUMMARY:Pinoy Food Trip at Lazy Beach Brewing
DESCRIPTION:Sylvia needs a little break from cooking up Corpus Christi's ta
 stiest Cubano sandwich\, so our friends at Pinoy food trip are coming to t
 he rescue with lumpia\, pancit\, and allll our favorites! If you haven't h
 ad the pleasure of meeting Dennis and Angela yet\, you should give their F
 ilipino food a taste test. You won't be disappointed.
ATTACH;FMTTYPE=image/jpeg:https://lazybeachbrewing.com/wp-content/uploads/
 2026/04/Pinoy.-Saturday.png
CATEGORIES:food trucks Sunday
LOCATION:Lazy Beach Southside\, 7522 Bichon Dr #100\, Corpus Christi\, TX\,
  78414\, United States
X-APPLE-STRUCTURED-LOCATION;VALUE=URI;X-ADDRESS=7522 Bichon Dr #100\, Corpu
 s Christi\, TX\, 78414\, United States;X-APPLE-RADIUS=100;X-TITLE=Lazy Bea
 ch Southside:geo:0,0
END:VEVENT
BEGIN:VTIMEZONE
TZID:America/Chicago
X-LIC-LOCATION:America/Chicago
BEGIN:DAYLIGHT
DTSTART:20260308T030000
TZOFFSETFROM:-0600
TZOFFSETTO:-0500
TZNAME:CDT
END:DAYLIGHT
END:VTIMEZONE
END:VCALENDAR