BEGIN:VCALENDAR
VERSION:2.0
PRODID:-//wp-events-plugin.com//7.2.3.1//EN
TZID:America/Chicago
X-WR-TIMEZONE:America/Chicago
BEGIN:VEVENT
UID:38@lazybeachbrewing.com
DTSTART;TZID=America/Chicago:20260425T110000
DTEND;TZID=America/Chicago:20260425T130000
DTSTAMP:20260424T154048Z
URL:https://lazybeachbrewing.com/all-events/plant-swap/
SUMMARY:Plant Swap
DESCRIPTION:We’re bringing a plant swap to the patio for a day of propaga
 ted community. Bring plants\, cuttings for propagation\, seeds\, and all t
 hings planty for a swap. Come check out this amazing little niche in our c
 ommunity\, meet some new friends\, and share knowledge and experience. No 
 plant sales\, just plant swaps and gifts from 11 am to 1 pm.
ATTACH;FMTTYPE=image/jpeg:https://lazybeachbrewing.com/wp-content/uploads/
 2026/04/4.25.26.png
LOCATION:Lazy Beach Southside\, 7522 Bichon Dr #100\, Corpus Christi\, TX\,
  78414\, United States
X-APPLE-STRUCTURED-LOCATION;VALUE=URI;X-ADDRESS=7522 Bichon Dr #100\, Corpu
 s Christi\, TX\, 78414\, United States;X-APPLE-RADIUS=100;X-TITLE=Lazy Bea
 ch Southside:geo:0,0
END:VEVENT
BEGIN:VTIMEZONE
TZID:America/Chicago
X-LIC-LOCATION:America/Chicago
BEGIN:DAYLIGHT
DTSTART:20260308T030000
TZOFFSETFROM:-0600
TZOFFSETTO:-0500
TZNAME:CDT
END:DAYLIGHT
END:VTIMEZONE
END:VCALENDAR